BEGIN:VCALENDAR
VERSION:2.0
PRODID:-//Moira Model Aircraft Club - ECPv5.4.0//NONSGML v1.0//EN
CALSCALE:GREGORIAN
METHOD:PUBLISH
X-WR-CALNAME:Moira Model Aircraft Club
X-ORIGINAL-URL:https://www.mmac.asn.au
X-WR-CALDESC:Events for Moira Model Aircraft Club
BEGIN:VTIMEZONE
TZID:Australia/Melbourne
BEGIN:STANDARD
TZOFFSETFROM:+1100
TZOFFSETTO:+1000
TZNAME:AEST
DTSTART:20140405T160000
END:STANDARD
BEGIN:DAYLIGHT
TZOFFSETFROM:+1000
TZOFFSETTO:+1100
TZNAME:AEDT
DTSTART:20141004T160000
END:DAYLIGHT
END:VTIMEZONE
BEGIN:VEVENT
DTSTART;TZID=Australia/Melbourne:20140713T100000
DTEND;TZID=Australia/Melbourne:20140713T120000
DTSTAMP:20210301T183248
CREATED:20140115T194245Z
LAST-MODIFIED:20140617T075901Z
UID:526-1405245600-1405252800@www.mmac.asn.au
SUMMARY:ANNUAL GENERAL MEETING
DESCRIPTION:Annual general meeting starting at 10:00am sharp. \nCome along if you want your say. \nAll commitee positions are up for nomintaions. \n  \n 
URL:https://www.mmac.asn.au/event/monthly-club-meeting-11
END:VEVENT
END:VCALENDAR