BEGIN:VCALENDAR
VERSION:2.0
PRODID:-//Moira Model Aircraft Club - ECPv5.4.0//NONSGML v1.0//EN
CALSCALE:GREGORIAN
METHOD:PUBLISH
X-WR-CALNAME:Moira Model Aircraft Club
X-ORIGINAL-URL:https://www.mmac.asn.au
X-WR-CALDESC:Events for Moira Model Aircraft Club
BEGIN:VTIMEZONE
TZID:Australia/Melbourne
BEGIN:STANDARD
TZOFFSETFROM:+1100
TZOFFSETTO:+1000
TZNAME:AEST
DTSTART:20200404T160000
END:STANDARD
BEGIN:DAYLIGHT
TZOFFSETFROM:+1000
TZOFFSETTO:+1100
TZNAME:AEDT
DTSTART:20201003T160000
END:DAYLIGHT
END:VTIMEZONE
BEGIN:VEVENT
DTSTART;TZID=Australia/Melbourne:20200607T100000
DTEND;TZID=Australia/Melbourne:20200607T110000
DTSTAMP:20210225T221838
CREATED:20190627T010642Z
LAST-MODIFIED:20200330T225733Z
UID:3902-1591524000-1591527600@www.mmac.asn.au
SUMMARY:June Club Meeting / AGM (Postponed)
DESCRIPTION:Postponed due to COVID-19\, updates will be provided when available. \nClub Bi-Monthly open club meeting and AGM. \nAt MMAC club facilities
URL:https://www.mmac.asn.au/event/june-club-meeting-agm
LOCATION:MMAC Club Field\, 128 Pye Rd\, Cobram East\, Victoria\, 3644\, Australia
ORGANIZER;CN="MMAC":MAILTO:jasonsagaidak@gmail.com
END:VEVENT
END:VCALENDAR