BEGIN:VCALENDAR
VERSION:2.0
PRODID:-//Moira Model Aircraft Club - ECPv5.4.0//NONSGML v1.0//EN
CALSCALE:GREGORIAN
METHOD:PUBLISH
X-WR-CALNAME:Moira Model Aircraft Club
X-ORIGINAL-URL:https://www.mmac.asn.au
X-WR-CALDESC:Events for Moira Model Aircraft Club
BEGIN:VTIMEZONE
TZID:Australia/Melbourne
BEGIN:STANDARD
TZOFFSETFROM:+1100
TZOFFSETTO:+1000
TZNAME:AEST
DTSTART:20140405T160000
END:STANDARD
BEGIN:DAYLIGHT
TZOFFSETFROM:+1000
TZOFFSETTO:+1100
TZNAME:AEDT
DTSTART:20141004T160000
END:DAYLIGHT
END:VTIMEZONE
BEGIN:VEVENT
DTSTART;TZID=Australia/Melbourne:20140829T080000
DTEND;TZID=Australia/Melbourne:20140831T170000
DTSTAMP:20210301T183106
CREATED:20140803T092733Z
LAST-MODIFIED:20140803T092918Z
UID:3042-1409299200-1409504400@www.mmac.asn.au
SUMMARY:In prompt aerotow weekend fun fly / camp
DESCRIPTION:Our Melbourne members are comming up for some aerotow action and fun flying in the bush. \nCamping and fun weekend planned. Come out /camp and be apart of this weekend. \nA $10 dollar donation for running cost is appreciated. \n 
URL:https://www.mmac.asn.au/event/in-prompt-aerotow-weekend-fun-fly-camp
END:VEVENT
END:VCALENDAR