BEGIN:VCALENDAR
VERSION:2.0
PRODID:-//Moira Model Aircraft Club - ECPv5.4.0//NONSGML v1.0//EN
CALSCALE:GREGORIAN
METHOD:PUBLISH
X-WR-CALNAME:Moira Model Aircraft Club
X-ORIGINAL-URL:https://www.mmac.asn.au
X-WR-CALDESC:Events for Moira Model Aircraft Club
BEGIN:VTIMEZONE
TZID:Australia/Melbourne
BEGIN:STANDARD
TZOFFSETFROM:+1100
TZOFFSETTO:+1000
TZNAME:AEST
DTSTART:20140405T160000
END:STANDARD
BEGIN:DAYLIGHT
TZOFFSETFROM:+1000
TZOFFSETTO:+1100
TZNAME:AEDT
DTSTART:20141004T160000
END:DAYLIGHT
END:VTIMEZONE
BEGIN:VEVENT
DTSTART;TZID=Australia/Melbourne:20140309T100000
DTEND;TZID=Australia/Melbourne:20140309T110000
DTSTAMP:20210301T183837
CREATED:20140115T195002Z
LAST-MODIFIED:20140311T192407Z
UID:533-1394359200-1394362800@www.mmac.asn.au
SUMMARY:CLUB MONTHLY MEETING
DESCRIPTION:MONTHLY CLUB MEETING  STARTING AT 10:00AM \nCOME ALONG AND HAVE YOUR SAY
URL:https://www.mmac.asn.au/event/fun-arvo-night-fly
CATEGORIES:General
END:VEVENT
END:VCALENDAR