BEGIN:VCALENDAR
VERSION:2.0
PRODID:-//Moira Model Aircraft Club - ECPv5.4.0//NONSGML v1.0//EN
CALSCALE:GREGORIAN
METHOD:PUBLISH
X-WR-CALNAME:Moira Model Aircraft Club
X-ORIGINAL-URL:https://www.mmac.asn.au
X-WR-CALDESC:Events for Moira Model Aircraft Club
BEGIN:VTIMEZONE
TZID:Australia/Melbourne
BEGIN:STANDARD
TZOFFSETFROM:+1100
TZOFFSETTO:+1000
TZNAME:AEST
DTSTART:20140405T160000
END:STANDARD
BEGIN:DAYLIGHT
TZOFFSETFROM:+1000
TZOFFSETTO:+1100
TZNAME:AEDT
DTSTART:20141004T160000
END:DAYLIGHT
END:VTIMEZONE
BEGIN:VEVENT
DTSTART;TZID=Australia/Melbourne:20140405T170000
DTEND;TZID=Australia/Melbourne:20140405T170000
DTSTAMP:20210301T183900
CREATED:20140115T200430Z
LAST-MODIFIED:20140324T030551Z
UID:535-1396717200-1396717200@www.mmac.asn.au
SUMMARY:fun arvo night fly (CANCELLED)
DESCRIPTION:Come on and join in on the club fun arvo of flying and night fly / BBQ / BYO Games \, aero bowling \ndonations for generator fuel
URL:https://www.mmac.asn.au/event/fun-arvo-night-fly-2
CATEGORIES:General
END:VEVENT
END:VCALENDAR