BEGIN:VCALENDAR
VERSION:2.0
PRODID:-//Moira Model Aircraft Club - ECPv5.4.0//NONSGML v1.0//EN
CALSCALE:GREGORIAN
METHOD:PUBLISH
X-WR-CALNAME:Moira Model Aircraft Club
X-ORIGINAL-URL:https://www.mmac.asn.au
X-WR-CALDESC:Events for Moira Model Aircraft Club
BEGIN:VTIMEZONE
TZID:Australia/Melbourne
BEGIN:STANDARD
TZOFFSETFROM:+1100
TZOFFSETTO:+1000
TZNAME:AEST
DTSTART:20200404T160000
END:STANDARD
BEGIN:DAYLIGHT
TZOFFSETFROM:+1000
TZOFFSETTO:+1100
TZNAME:AEDT
DTSTART:20201003T160000
END:DAYLIGHT
END:VTIMEZONE
BEGIN:VEVENT
DTSTART;VALUE=DATE:20200606
DTEND;VALUE=DATE:20200607
DTSTAMP:20210225T221856
CREATED:20200122T023442Z
LAST-MODIFIED:20200330T225806Z
UID:4152-1591401600-1591434000@www.mmac.asn.au
SUMMARY:Col Booth Memorial Fun Fly and Aerotow 2020 (Cobram Queens) (Postponed)
DESCRIPTION:  \n  \nYou’re invited to the Cobram Queens FUN FLY weekend\, for a casual aerotow and fun fly. \nThere will be no specific timetable\, just some towing and some FUN flying of any models… and to have fun. \nSo come on out and support this awesome club to grow and just have some fun with ya mates. \nCamping is available at the field. $15 per person per night. ($10 for club members) \nEvent is $15 per person per day or $30 for the 3 days \nClub amenities \nThere are male and female toilets and a hot shower. \nThere is plenty of camping space around the field. \nPlease download and submit the registration form so we can get an idea of numbers:\nQueens REGISTRATION FORM 2020 \nContact Jason Sagaidak for any more information via site email or 0429239308 (Jasons phone)
URL:https://www.mmac.asn.au/event/col-booth-memorial-fun-fly-and-aerotow-2020-cobram-queens
LOCATION:MMAC Club Field\, 128 Pye Rd\, Cobram East\, Victoria\, 3644\, Australia
CATEGORIES:General,Helicopters,Power Aircraft,Sailplanes
ORGANIZER;CN="Jason%20Sagaidak":MAILTO:jasonsagaidak@gmail.com
END:VEVENT
END:VCALENDAR