BEGIN:VCALENDAR
VERSION:2.0
PRODID:-//Moira Model Aircraft Club - ECPv5.4.0//NONSGML v1.0//EN
CALSCALE:GREGORIAN
METHOD:PUBLISH
X-WR-CALNAME:Moira Model Aircraft Club
X-ORIGINAL-URL:https://www.mmac.asn.au
X-WR-CALDESC:Events for Moira Model Aircraft Club
BEGIN:VTIMEZONE
TZID:Australia/Melbourne
BEGIN:STANDARD
TZOFFSETFROM:+1100
TZOFFSETTO:+1000
TZNAME:AEST
DTSTART:20140405T160000
END:STANDARD
BEGIN:DAYLIGHT
TZOFFSETFROM:+1000
TZOFFSETTO:+1100
TZNAME:AEDT
DTSTART:20141004T160000
END:DAYLIGHT
END:VTIMEZONE
BEGIN:VEVENT
DTSTART;TZID=Australia/Melbourne:20140426T080000
DTEND;TZID=Australia/Melbourne:20140427T160000
DTSTAMP:20210301T152756
CREATED:20130507T094322Z
LAST-MODIFIED:20140105T055052Z
UID:337-1398499200-1398614400@www.mmac.asn.au
SUMMARY:Cobram Rotor Mainia
DESCRIPTION:This is MMAC’s first Helicopter fun fly weekend (hope to be annually ) so bring that pod and boom \, that Scale heli and any other rotary winged beast and come have some good old fashioned fun in the bush. \nBring your night fliers for evening fun and laughs. \n \n\nThere is camping permitted\, a small fee of $15 Per night will apply. \nWe are equipped with hot showers \, male female flushing toilets. No power for caravans though so bring your own means to charge. Generators are permitted. \nThe strip is grass and it’s 120mts long and 16mts wide with a hard under cover pits that spans 4mts and 60mts long. (see images from gallery) \nThere will be catering Saturday and Sunday etc…..food\, tea\, coffee\, drinks\, \nHope to see you all there. \nContact Scott or Allan at ProHobby for more details. (03)58221800 \nSee you all there. \nCOBRAM ROTO MAINIA REGISTRATION FORM PDF \n 
URL:https://www.mmac.asn.au/event/cobram-rotor-mania
CATEGORIES:Helicopters
END:VEVENT
END:VCALENDAR