BEGIN:VCALENDAR
VERSION:2.0
PRODID:-//Moira Model Aircraft Club - ECPv5.4.0//NONSGML v1.0//EN
CALSCALE:GREGORIAN
METHOD:PUBLISH
X-WR-CALNAME:Moira Model Aircraft Club
X-ORIGINAL-URL:https://www.mmac.asn.au
X-WR-CALDESC:Events for Moira Model Aircraft Club
BEGIN:VTIMEZONE
TZID:Australia/Melbourne
BEGIN:STANDARD
TZOFFSETFROM:+1100
TZOFFSETTO:+1000
TZNAME:AEST
DTSTART:20140405T160000
END:STANDARD
BEGIN:DAYLIGHT
TZOFFSETFROM:+1000
TZOFFSETTO:+1100
TZNAME:AEDT
DTSTART:20141004T160000
END:DAYLIGHT
END:VTIMEZONE
BEGIN:VEVENT
DTSTART;TZID=Australia/Melbourne:20140726T080000
DTEND;TZID=Australia/Melbourne:20140726T170000
DTSTAMP:20210301T185322
CREATED:20140715T235327Z
LAST-MODIFIED:20140715T235327Z
UID:3036-1406361600-1406394000@www.mmac.asn.au
SUMMARY:Club Working Bee
DESCRIPTION:Today s club working bee starts at 8:00am. \nAgender\, \n1.Heli 3D flight line assemble and errect fence \n2.Pull down old shower block and box up for slab pour \n3. Trench for generator cabling to shed \n4. Trench storm water pipes to tank locations. \n 
URL:https://www.mmac.asn.au/event/club-working-bee-4
END:VEVENT
END:VCALENDAR