BEGIN:VCALENDAR
VERSION:2.0
PRODID:-//Moira Model Aircraft Club - ECPv5.4.0//NONSGML v1.0//EN
CALSCALE:GREGORIAN
METHOD:PUBLISH
X-WR-CALNAME:Moira Model Aircraft Club
X-ORIGINAL-URL:https://www.mmac.asn.au
X-WR-CALDESC:Events for Moira Model Aircraft Club
BEGIN:VTIMEZONE
TZID:Australia/Melbourne
BEGIN:STANDARD
TZOFFSETFROM:+1100
TZOFFSETTO:+1000
TZNAME:AEST
DTSTART:20150404T160000
END:STANDARD
BEGIN:DAYLIGHT
TZOFFSETFROM:+1000
TZOFFSETTO:+1100
TZNAME:AEDT
DTSTART:20151003T160000
END:DAYLIGHT
END:VTIMEZONE
BEGIN:VEVENT
DTSTART;TZID=Australia/Melbourne:20150712T100000
DTEND;TZID=Australia/Melbourne:20150712T120000
DTSTAMP:20210301T183244
CREATED:20150624T214139Z
LAST-MODIFIED:20150624T214139Z
UID:3617-1436695200-1436702400@www.mmac.asn.au
SUMMARY:Club AGM
DESCRIPTION:Club AGM \nAll positions are for nominations. \nmeeting starts at 10:00am sharp till finish around 12:00pm \n 
URL:https://www.mmac.asn.au/event/club-agm
LOCATION:MMAC Club Field\, 128 Pye Rd\, Cobram East\, Victoria\, 3644\, Australia
END:VEVENT
END:VCALENDAR