BEGIN:VCALENDAR
VERSION:2.0
PRODID:-//Moira Model Aircraft Club - ECPv5.4.0//NONSGML v1.0//EN
CALSCALE:GREGORIAN
METHOD:PUBLISH
X-WR-CALNAME:Moira Model Aircraft Club
X-ORIGINAL-URL:https://www.mmac.asn.au
X-WR-CALDESC:Events for Moira Model Aircraft Club
BEGIN:VTIMEZONE
TZID:Australia/Melbourne
BEGIN:STANDARD
TZOFFSETFROM:+1100
TZOFFSETTO:+1000
TZNAME:AEST
DTSTART:20130406T160000
END:STANDARD
BEGIN:DAYLIGHT
TZOFFSETFROM:+1000
TZOFFSETTO:+1100
TZNAME:AEDT
DTSTART:20131005T160000
END:DAYLIGHT
END:VTIMEZONE
BEGIN:VEVENT
DTSTART;TZID=Australia/Melbourne:20131019T170000
DTEND;TZID=Australia/Melbourne:20131019T170000
DTSTAMP:20210301T185745
CREATED:20131008T011955Z
LAST-MODIFIED:20131008T011955Z
UID:449-1382202000-1382202000@www.mmac.asn.au
SUMMARY:Afternoon fly \, combat & night fly
DESCRIPTION:Afternoon club fun fly with combat & night fly. \nBYO BBQ tea and beverages \nAll welcome and encouraged
URL:https://www.mmac.asn.au/event/afternoon-fly-combat-night-fly
CATEGORIES:General
END:VEVENT
END:VCALENDAR